BEGIN:VCALENDAR
VERSION:2.0
PRODID:-//Erasmus@SWU - ECPv6.15.20//NONSGML v1.0//EN
CALSCALE:GREGORIAN
METHOD:PUBLISH
X-ORIGINAL-URL:https://erasmus.swu.bg
X-WR-CALDESC:Events for Erasmus@SWU
REFRESH-INTERVAL;VALUE=DURATION:PT1H
X-Robots-Tag:noindex
X-PUBLISHED-TTL:PT1H
BEGIN:VTIMEZONE
TZID:UTC
BEGIN:STANDARD
TZOFFSETFROM:+0000
TZOFFSETTO:+0000
TZNAME:UTC
DTSTART:20250101T000000
END:STANDARD
END:VTIMEZONE
BEGIN:VEVENT
DTSTART;TZID=UTC:20260413T000000
DTEND;TZID=UTC:20260415T000000
DTSTAMP:20260424T125540
CREATED:20260116T144459Z
LAST-MODIFIED:20260116T144459Z
UID:6670-1776038400-1776211200@erasmus.swu.bg
SUMMARY:Announcement: eTwinning Initial Teacher Education (ITE) & Erasmus+ Staff Week at Mersin University
DESCRIPTION:We are pleased to share an exciting opportunity for academic staff to participate in the “eTwinning Initial Teacher Education (ITE) and Erasmus+ Staff Week” hosted by Mersin University\, taking place 13–15 April 2026 within the framework of the Erasmus+ KA131 Training 2026 Programme. \nThis international event is designed to: \n\nStrengthen cooperation in Initial Teacher Education\nPromote internationalisation through eTwinning and Erasmus+\nSupport sustainable academic partnerships through knowledge exchange and professional collaboration\n\nStudy Abroad Fair\nAs part of the programme\, Mersin University will organise a Study Abroad Fair on their main campus. Participating institutions are invited to showcase authentic or traditional materials—such as a national flag—to engage with students and academic staff and highlight international cooperation. \nWorkshops & Collaboration\nThe Staff Week will also feature a dedicated workshop where participants can share experiences\, exchange ideas\, and explore new opportunities for collaboration. The working language of the event is English. \nOptional Cultural Tour\nParticipants will have the opportunity to join an optional two‑day tour to Cappadocia\, including a one‑night stay—an excellent chance to experience one of Türkiye’s most iconic cultural landscapes. \nParticipation Details\n\nPreliminary programme\, application form\, and accommodation details are provided in the attachments below\n\n  \nSTAFF WEEK PROGRAM: STAFF WEEK PROGRAM \nAPPLICATION FORM:  Application Form
URL:https://erasmus.swu.bg/event/announcement-etwinning-initial-teacher-education-ite-erasmus-staff-week-at-mersin-university/
END:VEVENT
END:VCALENDAR