BEGIN:VCALENDAR
VERSION:2.0
PRODID:-//Erasmus@SWU - ECPv6.15.18//NONSGML v1.0//EN
CALSCALE:GREGORIAN
METHOD:PUBLISH
X-WR-CALNAME:Erasmus@SWU
X-ORIGINAL-URL:https://erasmus.swu.bg
X-WR-CALDESC:Events for Erasmus@SWU
REFRESH-INTERVAL;VALUE=DURATION:PT1H
X-Robots-Tag:noindex
X-PUBLISHED-TTL:PT1H
BEGIN:VTIMEZONE
TZID:UTC
BEGIN:STANDARD
TZOFFSETFROM:+0000
TZOFFSETTO:+0000
TZNAME:UTC
DTSTART:20250101T000000
END:STANDARD
END:VTIMEZONE
BEGIN:VEVENT
DTSTART;TZID=UTC:20260101T000000
DTEND;TZID=UTC:20260531T000000
DTSTAMP:20260420T013738
CREATED:20251010T055336Z
LAST-MODIFIED:20251014T052510Z
UID:6390-1767225600-1780185600@erasmus.swu.bg
SUMMARY:ERASMUS+ INTERNSHIP PROGRAM IN GREECE
DESCRIPTION:Erasmus+ Internship Opportunity in Greece \nWe are pleased to announce the launch of the Erasmus+ Internship Program at the University of Ioannina\, Greece. This prestigious initiative offers students a unique opportunity to gain international experience\, enhance academic and professional skills\, and engage with a vibrant academic community in one of Greece’s leading institutions. \nPDF Infopack about the internship: \nUniversity of Ioannina
URL:https://erasmus.swu.bg/event/erasmus-internship-program-in-greece/
ATTACH;FMTTYPE=image/jpeg:https://erasmus.swu.bg/wp-content/uploads/2025/10/panepistimio-iwanninwn2.jpg
END:VEVENT
BEGIN:VEVENT
DTSTART;TZID=UTC:20260420T000000
DTEND;TZID=UTC:20260424T000000
DTSTAMP:20260420T013738
CREATED:20251124T143740Z
LAST-MODIFIED:20251203T092212Z
UID:6472-1776643200-1776988800@erasmus.swu.bg
SUMMARY:Staff Teaching Week'26 at Vytautas Magnus University
DESCRIPTION:We are delighted to announce that Staff Teaching Week 2026 will take place at Vytautas Magnus University in Kaunas\, Lithuania\, from April 20–24\, 2026. The programme will feature a rich blend of academic and cultural activities\, including a Guided Tour of the exhibition “Vivat Universitas Vytauti Magni”\, a presentation on Policies of Inclusive Higher Education\, and a guided walk through Kaunas city. This event offers staff members an excellent opportunity to engage in meaningful dialogue\, explore the university’s heritage\, and experience the vibrant cultural life of Kaunas. We warmly invite colleagues to join us in fostering collaboration\, sharing expertise\, and strengthening international partnerships. \nJoin to strengthen international ties and share best practices in a truly enriching setting! \nPDF file with more info: Tentative Staff Teaching Programme \n  \n \n \n     \n 
URL:https://erasmus.swu.bg/event/staff-teaching-week26-at-vytautas-magnus-university/
ATTACH;FMTTYPE=image/avif:https://erasmus.swu.bg/wp-content/uploads/2025/11/187168_7F4A1594-scaled.avif
END:VEVENT
END:VCALENDAR